BEGIN:VCALENDAR
VERSION:2.0
PRODID:-//Eschbach-Gymnasium - ECPv6.15.15//NONSGML v1.0//EN
CALSCALE:GREGORIAN
METHOD:PUBLISH
X-ORIGINAL-URL:https://www.eschbach-gymnasium.de
X-WR-CALDESC:Veranstaltungen für Eschbach-Gymnasium
REFRESH-INTERVAL;VALUE=DURATION:PT1H
X-Robots-Tag:noindex
X-PUBLISHED-TTL:PT1H
BEGIN:VTIMEZONE
TZID:Europe/Berlin
BEGIN:DAYLIGHT
TZOFFSETFROM:+0100
TZOFFSETTO:+0200
TZNAME:CEST
DTSTART:20240331T010000
END:DAYLIGHT
BEGIN:STANDARD
TZOFFSETFROM:+0200
TZOFFSETTO:+0100
TZNAME:CET
DTSTART:20241027T010000
END:STANDARD
BEGIN:DAYLIGHT
TZOFFSETFROM:+0100
TZOFFSETTO:+0200
TZNAME:CEST
DTSTART:20250330T010000
END:DAYLIGHT
BEGIN:STANDARD
TZOFFSETFROM:+0200
TZOFFSETTO:+0100
TZNAME:CET
DTSTART:20251026T010000
END:STANDARD
BEGIN:DAYLIGHT
TZOFFSETFROM:+0100
TZOFFSETTO:+0200
TZNAME:CEST
DTSTART:20260329T010000
END:DAYLIGHT
BEGIN:STANDARD
TZOFFSETFROM:+0200
TZOFFSETTO:+0100
TZNAME:CET
DTSTART:20261025T010000
END:STANDARD
END:VTIMEZONE
BEGIN:VEVENT
DTSTART;TZID=Europe/Berlin:20250429T080000
DTEND;TZID=Europe/Berlin:20250521T140000
DTSTAMP:20260419T141950
CREATED:20250115T182608Z
LAST-MODIFIED:20250115T182954Z
UID:13530-1745913600-1747836000@www.eschbach-gymnasium.de
SUMMARY:schriftliches Abitur
DESCRIPTION:
URL:https://www.eschbach-gymnasium.de/event/schriftliches-abitur/
END:VEVENT
BEGIN:VEVENT
DTSTART;TZID=Europe/Berlin:20250508T075000
DTEND;TZID=Europe/Berlin:20250508T080000
DTSTAMP:20260419T141950
CREATED:20250115T182821Z
LAST-MODIFIED:20250115T182849Z
UID:13532-1746690600-1746691200@www.eschbach-gymnasium.de
SUMMARY:Beginn neuer Stundenplan
DESCRIPTION:
URL:https://www.eschbach-gymnasium.de/event/beginn-neuer-stundenplan/
END:VEVENT
BEGIN:VEVENT
DTSTART;TZID=Europe/Berlin:20250522T075000
DTEND;TZID=Europe/Berlin:20250522T075000
DTSTAMP:20260419T141950
CREATED:20250115T183200Z
LAST-MODIFIED:20250115T183200Z
UID:13534-1747900200-1747900200@www.eschbach-gymnasium.de
SUMMARY:Wiederbeginn des Unterrichts nach dem schriftlichen Abitur
DESCRIPTION:
URL:https://www.eschbach-gymnasium.de/event/wiederbeginn-des-unterrichts-nach-dem-schriftlichen-abitur/
END:VEVENT
BEGIN:VEVENT
DTSTART;TZID=Europe/Berlin:20250528T190000
DTEND;TZID=Europe/Berlin:20250528T220000
DTSTAMP:20260419T141950
CREATED:20250115T183332Z
LAST-MODIFIED:20250115T183332Z
UID:13537-1748458800-1748469600@www.eschbach-gymnasium.de
SUMMARY:Bandabend
DESCRIPTION:
URL:https://www.eschbach-gymnasium.de/event/bandabend-3/
END:VEVENT
BEGIN:VEVENT
DTSTART;VALUE=DATE:20250530
DTEND;VALUE=DATE:20250531
DTSTAMP:20260419T141950
CREATED:20250115T183428Z
LAST-MODIFIED:20250115T183428Z
UID:13539-1748563200-1748649599@www.eschbach-gymnasium.de
SUMMARY:Brückentag
DESCRIPTION:
URL:https://www.eschbach-gymnasium.de/event/brueckentag/
END:VEVENT
END:VCALENDAR