BEGIN:VCALENDAR
VERSION:2.0
PRODID:-//Eschbach-Gymnasium - ECPv6.15.15//NONSGML v1.0//EN
CALSCALE:GREGORIAN
METHOD:PUBLISH
X-WR-CALNAME:Eschbach-Gymnasium
X-ORIGINAL-URL:https://www.eschbach-gymnasium.de
X-WR-CALDESC:Veranstaltungen für Eschbach-Gymnasium
REFRESH-INTERVAL;VALUE=DURATION:PT1H
X-Robots-Tag:noindex
X-PUBLISHED-TTL:PT1H
BEGIN:VTIMEZONE
TZID:Europe/Berlin
BEGIN:DAYLIGHT
TZOFFSETFROM:+0100
TZOFFSETTO:+0200
TZNAME:CEST
DTSTART:20240331T010000
END:DAYLIGHT
BEGIN:STANDARD
TZOFFSETFROM:+0200
TZOFFSETTO:+0100
TZNAME:CET
DTSTART:20241027T010000
END:STANDARD
BEGIN:DAYLIGHT
TZOFFSETFROM:+0100
TZOFFSETTO:+0200
TZNAME:CEST
DTSTART:20250330T010000
END:DAYLIGHT
BEGIN:STANDARD
TZOFFSETFROM:+0200
TZOFFSETTO:+0100
TZNAME:CET
DTSTART:20251026T010000
END:STANDARD
BEGIN:DAYLIGHT
TZOFFSETFROM:+0100
TZOFFSETTO:+0200
TZNAME:CEST
DTSTART:20260329T010000
END:DAYLIGHT
BEGIN:STANDARD
TZOFFSETFROM:+0200
TZOFFSETTO:+0100
TZNAME:CET
DTSTART:20261025T010000
END:STANDARD
END:VTIMEZONE
BEGIN:VEVENT
DTSTART;VALUE=DATE:20250310
DTEND;VALUE=DATE:20250311
DTSTAMP:20260419T172834
CREATED:20241008T065520Z
LAST-MODIFIED:20241008T072023Z
UID:13316-1741564800-1741651199@www.eschbach-gymnasium.de
SUMMARY:Pädagogischer Tag
DESCRIPTION:ab 08 Uhr
URL:https://www.eschbach-gymnasium.de/event/paedagogischer-tag/
END:VEVENT
BEGIN:VEVENT
DTSTART;VALUE=DATE:20250310
DTEND;VALUE=DATE:20250311
DTSTAMP:20260419T172834
CREATED:20241008T065604Z
LAST-MODIFIED:20241008T065604Z
UID:13318-1741564800-1741651199@www.eschbach-gymnasium.de
SUMMARY:Anmeldung der neuen Fünftklässler:innen
DESCRIPTION:ab 09 Uhr
URL:https://www.eschbach-gymnasium.de/event/anmeldung-der-neuen-fuenftklaesslerinnen/
END:VEVENT
BEGIN:VEVENT
DTSTART;VALUE=DATE:20250311
DTEND;VALUE=DATE:20250312
DTSTAMP:20260419T172834
CREATED:20241008T065855Z
LAST-MODIFIED:20241008T065855Z
UID:13320-1741651200-1741737599@www.eschbach-gymnasium.de
SUMMARY:Anmeldung der neuen Fünftklässler:innen
DESCRIPTION:ab 09 Uhr
URL:https://www.eschbach-gymnasium.de/event/anmeldung-der-neuen-fuenftklaesslerinnen-2/
END:VEVENT
BEGIN:VEVENT
DTSTART;TZID=Europe/Berlin:20250311T113000
DTEND;TZID=Europe/Berlin:20250311T130000
DTSTAMP:20260419T172834
CREATED:20241008T070048Z
LAST-MODIFIED:20241008T070048Z
UID:13324-1741692600-1741698000@www.eschbach-gymnasium.de
SUMMARY:Klasse 10: Informationsveranstaltung zum Thema Kurswahlen
DESCRIPTION:
URL:https://www.eschbach-gymnasium.de/event/klasse-10-informationsveranstaltung-zum-thema-kurswahlen/
END:VEVENT
BEGIN:VEVENT
DTSTART;TZID=Europe/Berlin:20250311T130000
DTEND;TZID=Europe/Berlin:20250311T134500
DTSTAMP:20260419T172834
CREATED:20241008T070200Z
LAST-MODIFIED:20241008T070200Z
UID:13326-1741698000-1741700700@www.eschbach-gymnasium.de
SUMMARY:Klasse 10: Information zu den Leistungsfächern durch die Fachbeauftragten
DESCRIPTION:
URL:https://www.eschbach-gymnasium.de/event/klasse-10-information-zu-den-leistungsfaechern-durch-die-fachbeauftragten/
END:VEVENT
BEGIN:VEVENT
DTSTART;TZID=Europe/Berlin:20250312T080000
DTEND;TZID=Europe/Berlin:20250312T170000
DTSTAMP:20260419T172834
CREATED:20241008T065921Z
LAST-MODIFIED:20241008T065921Z
UID:13322-1741766400-1741798800@www.eschbach-gymnasium.de
SUMMARY:Anmeldung der neuen Fünftklässler:innen
DESCRIPTION:ab 09 Uhr
URL:https://www.eschbach-gymnasium.de/event/anmeldung-der-neuen-fuenftklaesslerinnen-3/
END:VEVENT
BEGIN:VEVENT
DTSTART;VALUE=DATE:20250313
DTEND;VALUE=DATE:20250314
DTSTAMP:20260419T172834
CREATED:20241008T070256Z
LAST-MODIFIED:20241008T070256Z
UID:13328-1741824000-1741910399@www.eschbach-gymnasium.de
SUMMARY:Anmeldund der neuen Fünftklässler:innen
DESCRIPTION:ab 09 Uhr
URL:https://www.eschbach-gymnasium.de/event/anmeldund-der-neuen-fuenftklaesslerinnen/
END:VEVENT
BEGIN:VEVENT
DTSTART;TZID=Europe/Berlin:20250314T130000
DTEND;TZID=Europe/Berlin:20250314T134500
DTSTAMP:20260419T172834
CREATED:20241008T070353Z
LAST-MODIFIED:20241008T070353Z
UID:13330-1741957200-1741959900@www.eschbach-gymnasium.de
SUMMARY:Klasse 10: Information zu den Basis- und Wahlfächern durch die Fachlehrer:innen
DESCRIPTION:
URL:https://www.eschbach-gymnasium.de/event/klasse-10-information-zu-den-basis-und-wahlfaechern-durch-die-fachlehrerinnen/
END:VEVENT
BEGIN:VEVENT
DTSTART;TZID=Europe/Berlin:20250320T173000
DTEND;TZID=Europe/Berlin:20250320T200000
DTSTAMP:20260419T172834
CREATED:20241008T070749Z
LAST-MODIFIED:20250225T060512Z
UID:13332-1742491800-1742500800@www.eschbach-gymnasium.de
SUMMARY:2. Elternabende Klasse 5\,6\,9\,10\, davor:
DESCRIPTION:17.30 Uhr: Infoveranstaltung für die Eltern der Zehntklässler/-innen zum Thema\n„Kurswahl für die Jahrgangsstufe“ (So)\, (MuG)\n17.30 Uhr: Infoveranstaltung der für die Eltern der Fünftklässler/-innen zum Thema\n„Latein oder Französisch“ (Al/Ma)\, (MuG) \nStart Elternabende: 18 Uhr\, kurze Info für alle Eltern der Klassenstufe 9 zu BOGY durch Herrn Scheib
URL:https://www.eschbach-gymnasium.de/event/2-elternabende-klasse-56910-davor/
END:VEVENT
BEGIN:VEVENT
DTSTART;VALUE=DATE:20250325
DTEND;VALUE=DATE:20250326
DTSTAMP:20260419T172834
CREATED:20241008T070937Z
LAST-MODIFIED:20250225T060613Z
UID:13334-1742860800-1742947199@www.eschbach-gymnasium.de
SUMMARY:2. Elternabende Klasse 7\,8\, Jg. 1\, Jg. 2\, davor
DESCRIPTION:18.00 Uhr: Infoveranstaltung für die Eltern der Siebtklässler/-innen zum Thema „NwT\,\nIMP oder Spanisch in Klasse 8?“ (Cet\, Fi\, Sp)\, (MuG) \n 
URL:https://www.eschbach-gymnasium.de/event/2-elternabende-klasse-78-jg-1-jg-2-davor/
END:VEVENT
END:VCALENDAR