BEGIN:VCALENDAR
VERSION:2.0
PRODID:-//Eschbach-Gymnasium - ECPv6.15.15//NONSGML v1.0//EN
CALSCALE:GREGORIAN
METHOD:PUBLISH
X-ORIGINAL-URL:https://www.eschbach-gymnasium.de
X-WR-CALDESC:Veranstaltungen für Eschbach-Gymnasium
REFRESH-INTERVAL;VALUE=DURATION:PT1H
X-Robots-Tag:noindex
X-PUBLISHED-TTL:PT1H
BEGIN:VTIMEZONE
TZID:Europe/Berlin
BEGIN:DAYLIGHT
TZOFFSETFROM:+0100
TZOFFSETTO:+0200
TZNAME:CEST
DTSTART:20230326T010000
END:DAYLIGHT
BEGIN:STANDARD
TZOFFSETFROM:+0200
TZOFFSETTO:+0100
TZNAME:CET
DTSTART:20231029T010000
END:STANDARD
BEGIN:DAYLIGHT
TZOFFSETFROM:+0100
TZOFFSETTO:+0200
TZNAME:CEST
DTSTART:20240331T010000
END:DAYLIGHT
BEGIN:STANDARD
TZOFFSETFROM:+0200
TZOFFSETTO:+0100
TZNAME:CET
DTSTART:20241027T010000
END:STANDARD
BEGIN:DAYLIGHT
TZOFFSETFROM:+0100
TZOFFSETTO:+0200
TZNAME:CEST
DTSTART:20250330T010000
END:DAYLIGHT
BEGIN:STANDARD
TZOFFSETFROM:+0200
TZOFFSETTO:+0100
TZNAME:CET
DTSTART:20251026T010000
END:STANDARD
END:VTIMEZONE
BEGIN:VEVENT
DTSTART;VALUE=DATE:20241205
DTEND;VALUE=DATE:20241206
DTSTAMP:20260419T221106
CREATED:20240907T145622Z
LAST-MODIFIED:20240907T145622Z
UID:13207-1733356800-1733443199@www.eschbach-gymnasium.de
SUMMARY:Mitmachen Ehrensache und Schulkonferenz Nr. 1
DESCRIPTION:Schulkonferenz startet um 19.30 Uhr
URL:https://www.eschbach-gymnasium.de/event/mitmachen-ehrensache-und-schulkonferenz-nr-1/
END:VEVENT
BEGIN:VEVENT
DTSTART;TZID=Europe/Berlin:20241213T190000
DTEND;TZID=Europe/Berlin:20241213T203000
DTSTAMP:20260419T221106
CREATED:20240907T145737Z
LAST-MODIFIED:20240907T145737Z
UID:13209-1734116400-1734121800@www.eschbach-gymnasium.de
SUMMARY:Weihnachtskonzert in der Laurentiuskirche in Freiberg
DESCRIPTION:
URL:https://www.eschbach-gymnasium.de/event/weihnachtskonzert-in-der-laurentiuskirche-in-freiberg/
END:VEVENT
BEGIN:VEVENT
DTSTART;VALUE=DATE:20241220
DTEND;VALUE=DATE:20241221
DTSTAMP:20260419T221106
CREATED:20240907T150049Z
LAST-MODIFIED:20240907T150049Z
UID:13211-1734652800-1734739199@www.eschbach-gymnasium.de
SUMMARY:Letzter Schultag vor den Weihnachtsferien
DESCRIPTION:8-9 Uhr ökumenischer Gottesdienst \n9.15-10.15 Uhr Klassenlehrer:in/Kurstutoren in ihren Klassen \n10.15-11.15 Uhr Fußballturnier \nUnterrichtsende nach der vierten Stunde
URL:https://www.eschbach-gymnasium.de/event/letzter-schultag-vor-den-weihnachtsferien-4/
END:VEVENT
END:VCALENDAR