BEGIN:VCALENDAR
VERSION:2.0
PRODID:-//Eschbach-Gymnasium - ECPv6.15.15//NONSGML v1.0//EN
CALSCALE:GREGORIAN
METHOD:PUBLISH
X-ORIGINAL-URL:https://www.eschbach-gymnasium.de
X-WR-CALDESC:Veranstaltungen für Eschbach-Gymnasium
REFRESH-INTERVAL;VALUE=DURATION:PT1H
X-Robots-Tag:noindex
X-PUBLISHED-TTL:PT1H
BEGIN:VTIMEZONE
TZID:Europe/Berlin
BEGIN:DAYLIGHT
TZOFFSETFROM:+0100
TZOFFSETTO:+0200
TZNAME:CEST
DTSTART:20230326T010000
END:DAYLIGHT
BEGIN:STANDARD
TZOFFSETFROM:+0200
TZOFFSETTO:+0100
TZNAME:CET
DTSTART:20231029T010000
END:STANDARD
BEGIN:DAYLIGHT
TZOFFSETFROM:+0100
TZOFFSETTO:+0200
TZNAME:CEST
DTSTART:20240331T010000
END:DAYLIGHT
BEGIN:STANDARD
TZOFFSETFROM:+0200
TZOFFSETTO:+0100
TZNAME:CET
DTSTART:20241027T010000
END:STANDARD
BEGIN:DAYLIGHT
TZOFFSETFROM:+0100
TZOFFSETTO:+0200
TZNAME:CEST
DTSTART:20250330T010000
END:DAYLIGHT
BEGIN:STANDARD
TZOFFSETFROM:+0200
TZOFFSETTO:+0100
TZNAME:CET
DTSTART:20251026T010000
END:STANDARD
END:VTIMEZONE
BEGIN:VEVENT
DTSTART;TZID=Europe/Berlin:20240712T150000
DTEND;TZID=Europe/Berlin:20240712T150000
DTSTAMP:20260423T173703
CREATED:20240107T132841Z
LAST-MODIFIED:20240107T132850Z
UID:12220-1720796400-1720796400@www.eschbach-gymnasium.de
SUMMARY:Klasse 4: Kennenlernnachmittag neue Klasse 5 und Sommerkonzert
DESCRIPTION:Das Sommerkonzert startet um 19 Uhr.
URL:https://www.eschbach-gymnasium.de/event/klasse-4-kennenlernnachmittag-neue-klasse-5-und-sommerkonzert/
END:VEVENT
BEGIN:VEVENT
DTSTART;TZID=Europe/Berlin:20240715T080000
DTEND;TZID=Europe/Berlin:20240715T130000
DTSTAMP:20260423T173703
CREATED:20240107T133116Z
LAST-MODIFIED:20240107T133116Z
UID:12226-1721030400-1721048400@www.eschbach-gymnasium.de
SUMMARY:Jg. 1: Ehemalige Informieren / Arbeiterkind
DESCRIPTION:
URL:https://www.eschbach-gymnasium.de/event/jg-1-ehemalige-informieren-arbeiterkind/
END:VEVENT
BEGIN:VEVENT
DTSTART;TZID=Europe/Berlin:20240715T080000
DTEND;TZID=Europe/Berlin:20240719T130000
DTSTAMP:20260423T173703
CREATED:20240107T133010Z
LAST-MODIFIED:20240107T133010Z
UID:12224-1721030400-1721394000@www.eschbach-gymnasium.de
SUMMARY:Klasse 5: Schwimmwoche
DESCRIPTION:
URL:https://www.eschbach-gymnasium.de/event/klasse-5-schwimmwoche/
END:VEVENT
BEGIN:VEVENT
DTSTART;TZID=Europe/Berlin:20240719T170000
DTEND;TZID=Europe/Berlin:20240719T170000
DTSTAMP:20260423T173703
CREATED:20240107T133214Z
LAST-MODIFIED:20240107T133214Z
UID:12228-1721408400-1721408400@www.eschbach-gymnasium.de
SUMMARY:Jg. 2: Zeugnisverleihung Abiturienten und Abiball
DESCRIPTION:
URL:https://www.eschbach-gymnasium.de/event/jg-2-zeugnisverleihung-abiturienten-und-abiball/
END:VEVENT
BEGIN:VEVENT
DTSTART;VALUE=DATE:20240723
DTEND;VALUE=DATE:20240724
DTSTAMP:20260423T173703
CREATED:20240107T133253Z
LAST-MODIFIED:20240107T133253Z
UID:12230-1721692800-1721779199@www.eschbach-gymnasium.de
SUMMARY:"Klassentag" und Schulfest
DESCRIPTION:
URL:https://www.eschbach-gymnasium.de/event/klassentag-und-schulfest/
END:VEVENT
BEGIN:VEVENT
DTSTART;TZID=Europe/Berlin:20240724T081500
DTEND;TZID=Europe/Berlin:20240724T112000
DTSTAMP:20260423T173703
CREATED:20240107T133618Z
LAST-MODIFIED:20240107T133652Z
UID:12232-1721808900-1721820000@www.eschbach-gymnasium.de
SUMMARY:Letzter Schultag vor den Sommerferien (Unterrichtsende nach der 4. Std.)
DESCRIPTION:Ablauf: \n\n8.15 – 9 Uhr: Besinnlicher Schuljahresabschluss\ndanach in Klasse 5 – 10 und Jg. 1: Klassenlehrerstunde und Zeugnisausgabe\n\n***wichtig: An diesem Tag müssen spätestens Anträge auf freiwillige Wiederholung gestellt werden***
URL:https://www.eschbach-gymnasium.de/event/letzter-schultag-vor-den-sommerferien-unterrichtsende-nach-der-4-std/
END:VEVENT
END:VCALENDAR