BEGIN:VCALENDAR
VERSION:2.0
PRODID:-//Eschbach-Gymnasium - ECPv6.15.15//NONSGML v1.0//EN
CALSCALE:GREGORIAN
METHOD:PUBLISH
X-WR-CALNAME:Eschbach-Gymnasium
X-ORIGINAL-URL:https://www.eschbach-gymnasium.de
X-WR-CALDESC:Veranstaltungen für Eschbach-Gymnasium
REFRESH-INTERVAL;VALUE=DURATION:PT1H
X-Robots-Tag:noindex
X-PUBLISHED-TTL:PT1H
BEGIN:VTIMEZONE
TZID:Europe/Berlin
BEGIN:DAYLIGHT
TZOFFSETFROM:+0100
TZOFFSETTO:+0200
TZNAME:CEST
DTSTART:20230326T010000
END:DAYLIGHT
BEGIN:STANDARD
TZOFFSETFROM:+0200
TZOFFSETTO:+0100
TZNAME:CET
DTSTART:20231029T010000
END:STANDARD
BEGIN:DAYLIGHT
TZOFFSETFROM:+0100
TZOFFSETTO:+0200
TZNAME:CEST
DTSTART:20240331T010000
END:DAYLIGHT
BEGIN:STANDARD
TZOFFSETFROM:+0200
TZOFFSETTO:+0100
TZNAME:CET
DTSTART:20241027T010000
END:STANDARD
BEGIN:DAYLIGHT
TZOFFSETFROM:+0100
TZOFFSETTO:+0200
TZNAME:CEST
DTSTART:20250330T010000
END:DAYLIGHT
BEGIN:STANDARD
TZOFFSETFROM:+0200
TZOFFSETTO:+0100
TZNAME:CET
DTSTART:20251026T010000
END:STANDARD
END:VTIMEZONE
BEGIN:VEVENT
DTSTART;TZID=Europe/Berlin:20240408T075000
DTEND;TZID=Europe/Berlin:20240408T075000
DTSTAMP:20260423T213253
CREATED:20240107T130248Z
LAST-MODIFIED:20240107T130248Z
UID:12188-1712562600-1712562600@www.eschbach-gymnasium.de
SUMMARY:Erster Schultag nach den Osterferien
DESCRIPTION:
URL:https://www.eschbach-gymnasium.de/event/erster-schultag-nach-den-osterferien/
END:VEVENT
BEGIN:VEVENT
DTSTART;TZID=Europe/Berlin:20240410T000000
DTEND;TZID=Europe/Berlin:20240417T000000
DTSTAMP:20260423T213253
CREATED:20240107T130438Z
LAST-MODIFIED:20240107T130438Z
UID:12190-1712707200-1713312000@www.eschbach-gymnasium.de
SUMMARY:Kl.8: Französisch-Austausch in Nantes (bis 17. April 24)
DESCRIPTION:gilt nicht für alle Schüler*innen der Klassenstufe 8
URL:https://www.eschbach-gymnasium.de/event/kl-8-franzoesisch-austausch-in-nantes-bis-17-april-24/
END:VEVENT
BEGIN:VEVENT
DTSTART;TZID=Europe/Berlin:20240411T193000
DTEND;TZID=Europe/Berlin:20240411T213000
DTSTAMP:20260423T213253
CREATED:20240306T161939Z
LAST-MODIFIED:20240306T161939Z
UID:12567-1712863800-1712871000@www.eschbach-gymnasium.de
SUMMARY:2. Elternbeiratssitzung
DESCRIPTION:im Großen Musiksaal in der Zeit von 19.30 – ca. 21.30 Uhr
URL:https://www.eschbach-gymnasium.de/event/2-elternbeiratssitzung/
END:VEVENT
BEGIN:VEVENT
DTSTART;TZID=Europe/Berlin:20240412T121500
DTEND;TZID=Europe/Berlin:20240412T121500
DTSTAMP:20260423T213253
CREATED:20240107T130641Z
LAST-MODIFIED:20240107T130641Z
UID:12192-1712924100-1712924100@www.eschbach-gymnasium.de
SUMMARY:Kollegiumsausflug
DESCRIPTION:Unterricht endet nach der 5. Stunde\, sofern die Kolleg*innen teilnehmen
URL:https://www.eschbach-gymnasium.de/event/kollegiumsausflug/
END:VEVENT
BEGIN:VEVENT
DTSTART;VALUE=DATE:20240425
DTEND;VALUE=DATE:20240426
DTSTAMP:20260423T213253
CREATED:20240107T130827Z
LAST-MODIFIED:20240107T130827Z
UID:12194-1714003200-1714089599@www.eschbach-gymnasium.de
SUMMARY:Kl 5-10: Girls‘ and Boys‘ Day
DESCRIPTION:andere Klassen auf freiwilliger Basis
URL:https://www.eschbach-gymnasium.de/event/kl-5-10-girls-and-boys-day/
END:VEVENT
END:VCALENDAR