BEGIN:VCALENDAR
VERSION:2.0
PRODID:-//Eschbach-Gymnasium - ECPv6.15.15//NONSGML v1.0//EN
CALSCALE:GREGORIAN
METHOD:PUBLISH
X-ORIGINAL-URL:https://www.eschbach-gymnasium.de
X-WR-CALDESC:Veranstaltungen für Eschbach-Gymnasium
REFRESH-INTERVAL;VALUE=DURATION:PT1H
X-Robots-Tag:noindex
X-PUBLISHED-TTL:PT1H
BEGIN:VTIMEZONE
TZID:Europe/Berlin
BEGIN:DAYLIGHT
TZOFFSETFROM:+0100
TZOFFSETTO:+0200
TZNAME:CEST
DTSTART:20230326T010000
END:DAYLIGHT
BEGIN:STANDARD
TZOFFSETFROM:+0200
TZOFFSETTO:+0100
TZNAME:CET
DTSTART:20231029T010000
END:STANDARD
BEGIN:DAYLIGHT
TZOFFSETFROM:+0100
TZOFFSETTO:+0200
TZNAME:CEST
DTSTART:20240331T010000
END:DAYLIGHT
BEGIN:STANDARD
TZOFFSETFROM:+0200
TZOFFSETTO:+0100
TZNAME:CET
DTSTART:20241027T010000
END:STANDARD
BEGIN:DAYLIGHT
TZOFFSETFROM:+0100
TZOFFSETTO:+0200
TZNAME:CEST
DTSTART:20250330T010000
END:DAYLIGHT
BEGIN:STANDARD
TZOFFSETFROM:+0200
TZOFFSETTO:+0100
TZNAME:CET
DTSTART:20251026T010000
END:STANDARD
END:VTIMEZONE
BEGIN:VEVENT
DTSTART;TZID=Europe/Berlin:20240301T143000
DTEND;TZID=Europe/Berlin:20240301T170000
DTSTAMP:20260423T225140
CREATED:20240103T125002Z
LAST-MODIFIED:20240219T135702Z
UID:12147-1709303400-1709312400@www.eschbach-gymnasium.de
SUMMARY:Elternsprechnachmittag
DESCRIPTION:
URL:https://www.eschbach-gymnasium.de/event/elternsprechnachmittag-2/
END:VEVENT
BEGIN:VEVENT
DTSTART;VALUE=DATE:20240305
DTEND;VALUE=DATE:20240306
DTSTAMP:20260423T225140
CREATED:20240103T125037Z
LAST-MODIFIED:20240103T125247Z
UID:12149-1709596800-1709683199@www.eschbach-gymnasium.de
SUMMARY:Anmeldung der neuen Fünftklässler:innen
DESCRIPTION:ab 9 Uhr
URL:https://www.eschbach-gymnasium.de/event/anmeldung-der-neuen-fuenftklaesslerinnen-4/
END:VEVENT
BEGIN:VEVENT
DTSTART;VALUE=DATE:20240305
DTEND;VALUE=DATE:20240306
DTSTAMP:20260423T225140
CREATED:20240103T125152Z
LAST-MODIFIED:20240122T102146Z
UID:12151-1709596800-1709683199@www.eschbach-gymnasium.de
SUMMARY:Elternabende Klasse 5\, 6\, 9\, 10
DESCRIPTION:ab 18.00 Uhr: Infoveranstaltung für die Eltern der Zehntklässler/-innen zum Thema „Kurswahl für die Jahrgangsstufe“ (Großer Musiksaal)
URL:https://www.eschbach-gymnasium.de/event/elternabende-klasse-5-6-jg-1-und-jg-2-2/
END:VEVENT
BEGIN:VEVENT
DTSTART;VALUE=DATE:20240314
DTEND;VALUE=DATE:20240315
DTSTAMP:20260423T225140
CREATED:20240103T130426Z
LAST-MODIFIED:20240122T102209Z
UID:12158-1710374400-1710460799@www.eschbach-gymnasium.de
SUMMARY:Elternabende Klasse 7\, 8 und J1/J2
DESCRIPTION:ab 17.45 Uhr: Infoveranstaltung für die Eltern der Siebtklässler/-innen zum Thema „NwT\, IMP oder Spanisch in Klasse 8?“ (Großer Musiksaal)
URL:https://www.eschbach-gymnasium.de/event/elternabende-klasse-7-bis-10-3/
END:VEVENT
BEGIN:VEVENT
DTSTART;TZID=Europe/Berlin:20240314T190000
DTEND;TZID=Europe/Berlin:20240314T190000
DTSTAMP:20260423T225140
CREATED:20240107T131500Z
LAST-MODIFIED:20240107T131500Z
UID:12196-1710442800-1710442800@www.eschbach-gymnasium.de
SUMMARY:Vortrag „Gewalt und Aggression“ für Eltern der Klassen 5 - Jg. 2 (Extern\, Car\, Kü)
DESCRIPTION:
URL:https://www.eschbach-gymnasium.de/event/vortrag-gewalt-und-aggression-fuer-eltern-der-klassen-5-jg-2-extern-car-kue/
END:VEVENT
BEGIN:VEVENT
DTSTART;TZID=Europe/Berlin:20240319T190000
DTEND;TZID=Europe/Berlin:20240319T190000
DTSTAMP:20260423T225140
CREATED:20240107T125924Z
LAST-MODIFIED:20240107T125924Z
UID:12181-1710874800-1710874800@www.eschbach-gymnasium.de
SUMMARY:Vortrag „Pubertät II“ für Eltern der Klassen 8 und 9 (Car\, Hi\, Kü)
DESCRIPTION:
URL:https://www.eschbach-gymnasium.de/event/vortrag-pubertaet-ii-fuer-eltern-der-klassen-8-und-9-car-hi-kue/
END:VEVENT
BEGIN:VEVENT
DTSTART;TZID=Europe/Berlin:20240320T190000
DTEND;TZID=Europe/Berlin:20240320T190000
DTSTAMP:20260423T225140
CREATED:20240107T130036Z
LAST-MODIFIED:20240107T130036Z
UID:12183-1710961200-1710961200@www.eschbach-gymnasium.de
SUMMARY:Eschbach musiziert
DESCRIPTION:
URL:https://www.eschbach-gymnasium.de/event/eschbach-musiziert-3/
END:VEVENT
BEGIN:VEVENT
DTSTART;TZID=Europe/Berlin:20240322T075000
DTEND;TZID=Europe/Berlin:20240322T075000
DTSTAMP:20260423T225140
CREATED:20240107T130139Z
LAST-MODIFIED:20240107T130139Z
UID:12185-1711093800-1711093800@www.eschbach-gymnasium.de
SUMMARY:Letzter Schultag vor den Osterferien
DESCRIPTION:
URL:https://www.eschbach-gymnasium.de/event/letzter-schultag-vor-den-osterferien-2/
END:VEVENT
END:VCALENDAR