BEGIN:VCALENDAR
VERSION:2.0
PRODID:-//Eschbach-Gymnasium - ECPv6.15.15//NONSGML v1.0//EN
CALSCALE:GREGORIAN
METHOD:PUBLISH
X-ORIGINAL-URL:https://www.eschbach-gymnasium.de
X-WR-CALDESC:Veranstaltungen für Eschbach-Gymnasium
REFRESH-INTERVAL;VALUE=DURATION:PT1H
X-Robots-Tag:noindex
X-PUBLISHED-TTL:PT1H
BEGIN:VTIMEZONE
TZID:Europe/Berlin
BEGIN:DAYLIGHT
TZOFFSETFROM:+0100
TZOFFSETTO:+0200
TZNAME:CEST
DTSTART:20230326T010000
END:DAYLIGHT
BEGIN:STANDARD
TZOFFSETFROM:+0200
TZOFFSETTO:+0100
TZNAME:CET
DTSTART:20231029T010000
END:STANDARD
BEGIN:DAYLIGHT
TZOFFSETFROM:+0100
TZOFFSETTO:+0200
TZNAME:CEST
DTSTART:20240331T010000
END:DAYLIGHT
BEGIN:STANDARD
TZOFFSETFROM:+0200
TZOFFSETTO:+0100
TZNAME:CET
DTSTART:20241027T010000
END:STANDARD
BEGIN:DAYLIGHT
TZOFFSETFROM:+0100
TZOFFSETTO:+0200
TZNAME:CEST
DTSTART:20250330T010000
END:DAYLIGHT
BEGIN:STANDARD
TZOFFSETFROM:+0200
TZOFFSETTO:+0100
TZNAME:CET
DTSTART:20251026T010000
END:STANDARD
END:VTIMEZONE
BEGIN:VEVENT
DTSTART;VALUE=DATE:20240108
DTEND;VALUE=DATE:20240109
DTSTAMP:20260424T020127
CREATED:20240103T121851Z
LAST-MODIFIED:20240103T121851Z
UID:12117-1704672000-1704758399@www.eschbach-gymnasium.de
SUMMARY:Wiederbeginn des Unterrichts
DESCRIPTION:
URL:https://www.eschbach-gymnasium.de/event/wiederbeginn-des-unterrichts-2/
END:VEVENT
BEGIN:VEVENT
DTSTART;TZID=Europe/Berlin:20240112T075000
DTEND;TZID=Europe/Berlin:20240112T130000
DTSTAMP:20260424T020127
CREATED:20240103T122103Z
LAST-MODIFIED:20240103T122806Z
UID:12119-1705045800-1705064400@www.eschbach-gymnasium.de
SUMMARY:Jugend Debattiert
DESCRIPTION:Siegerworkshop 1. – 6. Stunde (Khn/Tur)
URL:https://www.eschbach-gymnasium.de/event/jugend-debattiert-siegerworkshop-1-6-stunde-khn-tur/
END:VEVENT
BEGIN:VEVENT
DTSTART;VALUE=DATE:20240116
DTEND;VALUE=DATE:20240117
DTSTAMP:20260424T020127
CREATED:20240104T081310Z
LAST-MODIFIED:20240104T081310Z
UID:12161-1705363200-1705449599@www.eschbach-gymnasium.de
SUMMARY:Vortrag „Schulfremdenprüfung und Alternativen zum Eschbach“ für Eltern der Klassen 8 - 10 (Kü)
DESCRIPTION:ab 19 Uhr
URL:https://www.eschbach-gymnasium.de/event/vortrag-schulfremdenpruefung-und-alternativen-zum-eschbach-fuer-eltern-der-klassen-8-10-kue/
END:VEVENT
BEGIN:VEVENT
DTSTART;VALUE=DATE:20240118
DTEND;VALUE=DATE:20240119
DTSTAMP:20260424T020127
CREATED:20240103T122141Z
LAST-MODIFIED:20240103T123627Z
UID:12122-1705536000-1705622399@www.eschbach-gymnasium.de
SUMMARY:Skiausfahrt mit dem FPGZ
DESCRIPTION:
URL:https://www.eschbach-gymnasium.de/event/skiausfahrt-mit-fpgz/
END:VEVENT
BEGIN:VEVENT
DTSTART;VALUE=DATE:20240119
DTEND;VALUE=DATE:20240120
DTSTAMP:20260424T020127
CREATED:20240103T122340Z
LAST-MODIFIED:20240103T123612Z
UID:12124-1705622400-1705708799@www.eschbach-gymnasium.de
SUMMARY:Skiausfahrt mit dem FPGZ
DESCRIPTION:
URL:https://www.eschbach-gymnasium.de/event/skiausfahrt-mit-fpgz-2/
END:VEVENT
BEGIN:VEVENT
DTSTART;VALUE=DATE:20240122
DTEND;VALUE=DATE:20240123
DTSTAMP:20260424T020127
CREATED:20240103T122737Z
LAST-MODIFIED:20240103T122839Z
UID:12126-1705881600-1705967999@www.eschbach-gymnasium.de
SUMMARY:Jugend Debattiert
DESCRIPTION:1. – 4. Std. Qualifikationsrunden im Modulbau\, 5.+ 6. Std. Öffentliches Finale (MuG) alle Klassen 9 und 10 (Khn/Tur)
URL:https://www.eschbach-gymnasium.de/event/jugend-debattiert/
END:VEVENT
BEGIN:VEVENT
DTSTART;VALUE=DATE:20240131
DTEND;VALUE=DATE:20240201
DTSTAMP:20260424T020127
CREATED:20240103T124319Z
LAST-MODIFIED:20240103T124319Z
UID:12143-1706659200-1706745599@www.eschbach-gymnasium.de
SUMMARY:Ende des ersten Schulhalbjahres
DESCRIPTION:
URL:https://www.eschbach-gymnasium.de/event/ende-des-ersten-schulhalbjahres-2/
END:VEVENT
BEGIN:VEVENT
DTSTART;VALUE=DATE:20240131
DTEND;VALUE=DATE:20240203
DTSTAMP:20260424T020127
CREATED:20240103T123108Z
LAST-MODIFIED:20240103T123108Z
UID:12130-1706659200-1706918399@www.eschbach-gymnasium.de
SUMMARY:Schafstallfreizeit
DESCRIPTION:
URL:https://www.eschbach-gymnasium.de/event/schafstallfreizeit/
END:VEVENT
END:VCALENDAR