BEGIN:VCALENDAR
VERSION:2.0
PRODID:-//Eschbach-Gymnasium - ECPv6.15.15//NONSGML v1.0//EN
CALSCALE:GREGORIAN
METHOD:PUBLISH
X-WR-CALNAME:Eschbach-Gymnasium
X-ORIGINAL-URL:https://www.eschbach-gymnasium.de
X-WR-CALDESC:Veranstaltungen für Eschbach-Gymnasium
REFRESH-INTERVAL;VALUE=DURATION:PT1H
X-Robots-Tag:noindex
X-PUBLISHED-TTL:PT1H
BEGIN:VTIMEZONE
TZID:Europe/Berlin
BEGIN:DAYLIGHT
TZOFFSETFROM:+0100
TZOFFSETTO:+0200
TZNAME:CEST
DTSTART:20220327T010000
END:DAYLIGHT
BEGIN:STANDARD
TZOFFSETFROM:+0200
TZOFFSETTO:+0100
TZNAME:CET
DTSTART:20221030T010000
END:STANDARD
BEGIN:DAYLIGHT
TZOFFSETFROM:+0100
TZOFFSETTO:+0200
TZNAME:CEST
DTSTART:20230326T010000
END:DAYLIGHT
BEGIN:STANDARD
TZOFFSETFROM:+0200
TZOFFSETTO:+0100
TZNAME:CET
DTSTART:20231029T010000
END:STANDARD
BEGIN:DAYLIGHT
TZOFFSETFROM:+0100
TZOFFSETTO:+0200
TZNAME:CEST
DTSTART:20240331T010000
END:DAYLIGHT
BEGIN:STANDARD
TZOFFSETFROM:+0200
TZOFFSETTO:+0100
TZNAME:CET
DTSTART:20241027T010000
END:STANDARD
END:VTIMEZONE
BEGIN:VEVENT
DTSTART;TZID=Europe/Berlin:20231106T000000
DTEND;TZID=Europe/Berlin:20231117T190000
DTSTAMP:20260424T043936
CREATED:20230914T150311Z
LAST-MODIFIED:20230914T150651Z
UID:11829-1699228800-1700247600@www.eschbach-gymnasium.de
SUMMARY:Biberwettbewerb (Informatik)
DESCRIPTION:
URL:https://www.eschbach-gymnasium.de/event/biberwettbewerb-informatik/
END:VEVENT
BEGIN:VEVENT
DTSTART;TZID=Europe/Berlin:20231106T075000
DTEND;TZID=Europe/Berlin:20231106T075000
DTSTAMP:20260424T043936
CREATED:20230914T145953Z
LAST-MODIFIED:20230914T145953Z
UID:11825-1699257000-1699257000@www.eschbach-gymnasium.de
SUMMARY:Wiederbeginn Unterricht nach den Ferien
DESCRIPTION:
URL:https://www.eschbach-gymnasium.de/event/wiederbeginn-unterricht-nach-den-ferien/
END:VEVENT
BEGIN:VEVENT
DTSTART;TZID=Europe/Berlin:20231106T080000
DTEND;TZID=Europe/Berlin:20231108T180000
DTSTAMP:20260424T043936
CREATED:20230914T150149Z
LAST-MODIFIED:20230914T150459Z
UID:11827-1699257600-1699466400@www.eschbach-gymnasium.de
SUMMARY:SMV-Arbeitstage
DESCRIPTION:beteiligt sind Frau Turan und Frau Matthies sowie alle (stellvertretenden) KlassensprecherInnen
URL:https://www.eschbach-gymnasium.de/event/smv-arbeitstage/
END:VEVENT
BEGIN:VEVENT
DTSTART;TZID=Europe/Berlin:20231107T193000
DTEND;TZID=Europe/Berlin:20231107T193000
DTSTAMP:20260424T043936
CREATED:20230914T150411Z
LAST-MODIFIED:20230914T150411Z
UID:11831-1699385400-1699385400@www.eschbach-gymnasium.de
SUMMARY:Elternbeiratssitzung Nr.1
DESCRIPTION:
URL:https://www.eschbach-gymnasium.de/event/elternbeiratssitzung-nr-1/
END:VEVENT
BEGIN:VEVENT
DTSTART;TZID=Europe/Berlin:20231114T080000
DTEND;TZID=Europe/Berlin:20231117T170000
DTSTAMP:20260424T043936
CREATED:20230914T150942Z
LAST-MODIFIED:20230914T150942Z
UID:11833-1699948800-1700240400@www.eschbach-gymnasium.de
SUMMARY:Probenwoche Weikersheim
DESCRIPTION:mit Frau Blumer\, Frau Pfau\, Herr Klette und Herr Wegler
URL:https://www.eschbach-gymnasium.de/event/probenwoche-weikersheim-3/
END:VEVENT
BEGIN:VEVENT
DTSTART;TZID=Europe/Berlin:20231116T190000
DTEND;TZID=Europe/Berlin:20231116T190000
DTSTAMP:20260424T043936
CREATED:20230914T151216Z
LAST-MODIFIED:20230914T151216Z
UID:11835-1700161200-1700161200@www.eschbach-gymnasium.de
SUMMARY:Vortrag "Schule und Familie - Wie die Familie die Schule meistern kann" für Eltern
DESCRIPTION:Die Einladung richtet sich an alle Eltern der Klassen 6 – Jg.2 \nThemen: Orga\, Struktur\, mentale Unterstützung\, etc.
URL:https://www.eschbach-gymnasium.de/event/vortrag-schule-und-familie-wie-die-familie-die-schule-meistern-kann-fuer-eltern/
END:VEVENT
BEGIN:VEVENT
DTSTART;TZID=Europe/Berlin:20231117T080000
DTEND;TZID=Europe/Berlin:20231117T080000
DTSTAMP:20260424T043936
CREATED:20230914T151344Z
LAST-MODIFIED:20230914T151344Z
UID:11837-1700208000-1700208000@www.eschbach-gymnasium.de
SUMMARY:neue Stundenplanversion ab dem 20.11.23
DESCRIPTION:
URL:https://www.eschbach-gymnasium.de/event/neue-stundenplanversion-ab-dem-20-11-23/
END:VEVENT
BEGIN:VEVENT
DTSTART;TZID=Europe/Berlin:20231121T183000
DTEND;TZID=Europe/Berlin:20231121T201500
DTSTAMP:20260424T043936
CREATED:20230914T151651Z
LAST-MODIFIED:20230914T151651Z
UID:11839-1700591400-1700597700@www.eschbach-gymnasium.de
SUMMARY:Elterninfo/-sprechabend Klassenstufe 5
DESCRIPTION:
URL:https://www.eschbach-gymnasium.de/event/elterninfo-sprechabend-klassenstufe-5/
END:VEVENT
BEGIN:VEVENT
DTSTART;TZID=Europe/Berlin:20231122T080000
DTEND;TZID=Europe/Berlin:20231122T190000
DTSTAMP:20260424T043936
CREATED:20230914T151821Z
LAST-MODIFIED:20230914T151821Z
UID:11841-1700640000-1700679600@www.eschbach-gymnasium.de
SUMMARY:Jg. 1 Studieninformationstag
DESCRIPTION:Alle SchülerInnen sind zur Teilnahme verpflichtet
URL:https://www.eschbach-gymnasium.de/event/jg-1-studieninformationstag/
END:VEVENT
BEGIN:VEVENT
DTSTART;VALUE=DATE:20231123
DTEND;VALUE=DATE:20231124
DTSTAMP:20260424T043936
CREATED:20231016T075726Z
LAST-MODIFIED:20231016T075726Z
UID:11906-1700697600-1700783999@www.eschbach-gymnasium.de
SUMMARY:Schulfotograf (Termin 1)
DESCRIPTION:
URL:https://www.eschbach-gymnasium.de/event/schulfotograf-termin-1/
END:VEVENT
BEGIN:VEVENT
DTSTART;VALUE=DATE:20231124
DTEND;VALUE=DATE:20231125
DTSTAMP:20260424T043936
CREATED:20231016T075805Z
LAST-MODIFIED:20231016T075805Z
UID:11909-1700784000-1700870399@www.eschbach-gymnasium.de
SUMMARY:Schulfotograf (Termin 2)
DESCRIPTION:
URL:https://www.eschbach-gymnasium.de/event/schulfotograf-termin-2/
END:VEVENT
END:VCALENDAR