BEGIN:VCALENDAR
VERSION:2.0
PRODID:-//Eschbach-Gymnasium - ECPv6.15.15//NONSGML v1.0//EN
CALSCALE:GREGORIAN
METHOD:PUBLISH
X-WR-CALNAME:Eschbach-Gymnasium
X-ORIGINAL-URL:https://www.eschbach-gymnasium.de
X-WR-CALDESC:Veranstaltungen für Eschbach-Gymnasium
REFRESH-INTERVAL;VALUE=DURATION:PT1H
X-Robots-Tag:noindex
X-PUBLISHED-TTL:PT1H
BEGIN:VTIMEZONE
TZID:Europe/Berlin
BEGIN:DAYLIGHT
TZOFFSETFROM:+0100
TZOFFSETTO:+0200
TZNAME:CEST
DTSTART:20220327T010000
END:DAYLIGHT
BEGIN:STANDARD
TZOFFSETFROM:+0200
TZOFFSETTO:+0100
TZNAME:CET
DTSTART:20221030T010000
END:STANDARD
BEGIN:DAYLIGHT
TZOFFSETFROM:+0100
TZOFFSETTO:+0200
TZNAME:CEST
DTSTART:20230326T010000
END:DAYLIGHT
BEGIN:STANDARD
TZOFFSETFROM:+0200
TZOFFSETTO:+0100
TZNAME:CET
DTSTART:20231029T010000
END:STANDARD
BEGIN:DAYLIGHT
TZOFFSETFROM:+0100
TZOFFSETTO:+0200
TZNAME:CEST
DTSTART:20240331T010000
END:DAYLIGHT
BEGIN:STANDARD
TZOFFSETFROM:+0200
TZOFFSETTO:+0100
TZNAME:CET
DTSTART:20241027T010000
END:STANDARD
END:VTIMEZONE
BEGIN:VEVENT
DTSTART;VALUE=DATE:20230727
DTEND;VALUE=DATE:20230911
DTSTAMP:20260424T073356
CREATED:20220919T084305Z
LAST-MODIFIED:20220919T084305Z
UID:10674-1690416000-1694390399@www.eschbach-gymnasium.de
SUMMARY:Sommerferien
DESCRIPTION:
URL:https://www.eschbach-gymnasium.de/event/sommerferien/
END:VEVENT
BEGIN:VEVENT
DTSTART;TZID=Europe/Berlin:20230911T075000
DTEND;TZID=Europe/Berlin:20230911T092500
DTSTAMP:20260424T073356
CREATED:20230911T133704Z
LAST-MODIFIED:20230911T133953Z
UID:11775-1694418600-1694424300@www.eschbach-gymnasium.de
SUMMARY:Lernstand 5 Mathematik
DESCRIPTION:
URL:https://www.eschbach-gymnasium.de/event/start-hausaufgabenbetreuung-notprogramm/
END:VEVENT
BEGIN:VEVENT
DTSTART;TZID=Europe/Berlin:20230911T153000
DTEND;TZID=Europe/Berlin:20230911T170000
DTSTAMP:20260424T073356
CREATED:20230911T134816Z
LAST-MODIFIED:20230911T135618Z
UID:11787-1694446200-1694451600@www.eschbach-gymnasium.de
SUMMARY:Einschulung der neuen Fünftklässler
DESCRIPTION:
URL:https://www.eschbach-gymnasium.de/event/verkehrspraevention-klasse-5/
END:VEVENT
BEGIN:VEVENT
DTSTART;VALUE=DATE:20230918
DTEND;VALUE=DATE:20230919
DTSTAMP:20260424T073356
CREATED:20230911T134219Z
LAST-MODIFIED:20230911T134219Z
UID:11779-1694995200-1695081599@www.eschbach-gymnasium.de
SUMMARY:Start Hausaufgabenbetreuung (Notprogramm)
DESCRIPTION:
URL:https://www.eschbach-gymnasium.de/event/start-hausaufgabenbetreuung-notprogramm-2/
END:VEVENT
BEGIN:VEVENT
DTSTART;TZID=Europe/Berlin:20230919T094500
DTEND;TZID=Europe/Berlin:20230919T112000
DTSTAMP:20260424T073356
CREATED:20230911T133553Z
LAST-MODIFIED:20230911T134554Z
UID:11773-1695116700-1695122400@www.eschbach-gymnasium.de
SUMMARY:Lernstand 5 Deutsch
DESCRIPTION:
URL:https://www.eschbach-gymnasium.de/event/lernstand-5/
END:VEVENT
BEGIN:VEVENT
DTSTART;TZID=Europe/Berlin:20230921T075000
DTEND;TZID=Europe/Berlin:20230921T092500
DTSTAMP:20260424T073356
CREATED:20230911T134321Z
LAST-MODIFIED:20230911T134321Z
UID:11781-1695282600-1695288300@www.eschbach-gymnasium.de
SUMMARY:Lernstand 5 Mathematik
DESCRIPTION:
URL:https://www.eschbach-gymnasium.de/event/lernstand-5-mathematik-3/
END:VEVENT
BEGIN:VEVENT
DTSTART;TZID=Europe/Berlin:20230925T075000
DTEND;TZID=Europe/Berlin:20230929T112000
DTSTAMP:20260424T073356
CREATED:20230911T134425Z
LAST-MODIFIED:20230911T141532Z
UID:11783-1695628200-1695986400@www.eschbach-gymnasium.de
SUMMARY:Fahrtenwoche Klasse 6\, 7\, 10
DESCRIPTION:
URL:https://www.eschbach-gymnasium.de/event/methodentag/
END:VEVENT
BEGIN:VEVENT
DTSTART;VALUE=DATE:20230926
DTEND;VALUE=DATE:20230927
DTSTAMP:20260424T073356
CREATED:20230911T134917Z
LAST-MODIFIED:20230911T135326Z
UID:11790-1695686400-1695772799@www.eschbach-gymnasium.de
SUMMARY:Wandertag Klasse 5\, 8\, 9\, Jg. 1/2
DESCRIPTION:
URL:https://www.eschbach-gymnasium.de/event/wandertag-klassen-5-8-9-jg-1-2/
END:VEVENT
BEGIN:VEVENT
DTSTART;TZID=Europe/Berlin:20230929T075000
DTEND;TZID=Europe/Berlin:20230929T112000
DTSTAMP:20260424T073356
CREATED:20230911T135858Z
LAST-MODIFIED:20230911T135948Z
UID:11800-1695973800-1695986400@www.eschbach-gymnasium.de
SUMMARY:Verkehrsprävention Klasse 5
DESCRIPTION:
URL:https://www.eschbach-gymnasium.de/event/klasse-5-verkehrspraevention/
END:VEVENT
END:VCALENDAR