BEGIN:VCALENDAR
VERSION:2.0
PRODID:-//Eschbach-Gymnasium - ECPv6.15.15//NONSGML v1.0//EN
CALSCALE:GREGORIAN
METHOD:PUBLISH
X-ORIGINAL-URL:https://www.eschbach-gymnasium.de
X-WR-CALDESC:Veranstaltungen für Eschbach-Gymnasium
REFRESH-INTERVAL;VALUE=DURATION:PT1H
X-Robots-Tag:noindex
X-PUBLISHED-TTL:PT1H
BEGIN:VTIMEZONE
TZID:Europe/Berlin
BEGIN:DAYLIGHT
TZOFFSETFROM:+0100
TZOFFSETTO:+0200
TZNAME:CEST
DTSTART:20220327T010000
END:DAYLIGHT
BEGIN:STANDARD
TZOFFSETFROM:+0200
TZOFFSETTO:+0100
TZNAME:CET
DTSTART:20221030T010000
END:STANDARD
BEGIN:DAYLIGHT
TZOFFSETFROM:+0100
TZOFFSETTO:+0200
TZNAME:CEST
DTSTART:20230326T010000
END:DAYLIGHT
BEGIN:STANDARD
TZOFFSETFROM:+0200
TZOFFSETTO:+0100
TZNAME:CET
DTSTART:20231029T010000
END:STANDARD
BEGIN:DAYLIGHT
TZOFFSETFROM:+0100
TZOFFSETTO:+0200
TZNAME:CEST
DTSTART:20240331T010000
END:DAYLIGHT
BEGIN:STANDARD
TZOFFSETFROM:+0200
TZOFFSETTO:+0100
TZNAME:CET
DTSTART:20241027T010000
END:STANDARD
END:VTIMEZONE
BEGIN:VEVENT
DTSTART;VALUE=DATE:20230527
DTEND;VALUE=DATE:20230612
DTSTAMP:20260424T120940
CREATED:20220919T083714Z
LAST-MODIFIED:20220919T083714Z
UID:10662-1685145600-1686527999@www.eschbach-gymnasium.de
SUMMARY:Pfingstferien
DESCRIPTION:
URL:https://www.eschbach-gymnasium.de/event/pfingstferien/
END:VEVENT
BEGIN:VEVENT
DTSTART;VALUE=DATE:20230615
DTEND;VALUE=DATE:20230616
DTSTAMP:20260424T120940
CREATED:20220919T083755Z
LAST-MODIFIED:20230618T105811Z
UID:10664-1686787200-1686873599@www.eschbach-gymnasium.de
SUMMARY:Theateraufführung => verschoben auf Herbst 2023
DESCRIPTION:
URL:https://www.eschbach-gymnasium.de/event/theaterauffuehrung/
END:VEVENT
BEGIN:VEVENT
DTSTART;TZID=Europe/Berlin:20230619T080000
DTEND;TZID=Europe/Berlin:20230619T093000
DTSTAMP:20260424T120940
CREATED:20230618T110200Z
LAST-MODIFIED:20230618T110200Z
UID:11451-1687161600-1687167000@www.eschbach-gymnasium.de
SUMMARY:Bücherrückgabe J2
DESCRIPTION:
URL:https://www.eschbach-gymnasium.de/event/buecherrueckgabe-j2/
END:VEVENT
BEGIN:VEVENT
DTSTART;VALUE=DATE:20230621
DTEND;VALUE=DATE:20230622
DTSTAMP:20260424T120940
CREATED:20220919T083852Z
LAST-MODIFIED:20220919T083852Z
UID:10666-1687305600-1687391999@www.eschbach-gymnasium.de
SUMMARY:Zeugnisausgabe (Jg. 2)
DESCRIPTION:
URL:https://www.eschbach-gymnasium.de/event/zeugnisausgabe-jg-2-2/
END:VEVENT
BEGIN:VEVENT
DTSTART;VALUE=DATE:20230622
DTEND;VALUE=DATE:20230623
DTSTAMP:20260424T120940
CREATED:20220919T083933Z
LAST-MODIFIED:20220919T083933Z
UID:10668-1687392000-1687478399@www.eschbach-gymnasium.de
SUMMARY:Bundesjugendspiele (Klasse 5-7\, 9a)
DESCRIPTION:
URL:https://www.eschbach-gymnasium.de/event/bundesjugendspiele-klasse-5-7-9a/
END:VEVENT
BEGIN:VEVENT
DTSTART;TZID=Europe/Berlin:20230622T080000
DTEND;TZID=Europe/Berlin:20230623T170000
DTSTAMP:20260424T120940
CREATED:20230618T110316Z
LAST-MODIFIED:20230618T110316Z
UID:11453-1687420800-1687539600@www.eschbach-gymnasium.de
SUMMARY:Seminarkursprüfungen
DESCRIPTION:
URL:https://www.eschbach-gymnasium.de/event/seminarkurspruefungen/
END:VEVENT
BEGIN:VEVENT
DTSTART;TZID=Europe/Berlin:20230622T170000
DTEND;TZID=Europe/Berlin:20230622T170000
DTSTAMP:20260424T120940
CREATED:20230615T054110Z
LAST-MODIFIED:20230615T054110Z
UID:11436-1687453200-1687453200@www.eschbach-gymnasium.de
SUMMARY:Aufführung der Unterstufen-Theater-AG
DESCRIPTION:Kommissarin Flotte Lotte – Ein paar Blüten zu viel \nOrt: Großer Musiksaal EGSF \nFREIER EINTRITT
URL:https://www.eschbach-gymnasium.de/event/auffuehrung-der-unterstufen-theater-ag/
END:VEVENT
BEGIN:VEVENT
DTSTART;TZID=Europe/Berlin:20230628T073000
DTEND;TZID=Europe/Berlin:20230630T180000
DTSTAMP:20260424T120940
CREATED:20230618T110548Z
LAST-MODIFIED:20230618T110548Z
UID:11455-1687937400-1688148000@www.eschbach-gymnasium.de
SUMMARY:mündliches Abitur EGSF (28.-30.06.)
DESCRIPTION:
URL:https://www.eschbach-gymnasium.de/event/muendliches-abitur-egsf-28-30-06/
END:VEVENT
END:VCALENDAR