BEGIN:VCALENDAR
VERSION:2.0
PRODID:-//Eschbach-Gymnasium - ECPv6.15.15//NONSGML v1.0//EN
CALSCALE:GREGORIAN
METHOD:PUBLISH
X-WR-CALNAME:Eschbach-Gymnasium
X-ORIGINAL-URL:https://www.eschbach-gymnasium.de
X-WR-CALDESC:Veranstaltungen für Eschbach-Gymnasium
REFRESH-INTERVAL;VALUE=DURATION:PT1H
X-Robots-Tag:noindex
X-PUBLISHED-TTL:PT1H
BEGIN:VTIMEZONE
TZID:Europe/Berlin
BEGIN:DAYLIGHT
TZOFFSETFROM:+0100
TZOFFSETTO:+0200
TZNAME:CEST
DTSTART:20220327T010000
END:DAYLIGHT
BEGIN:STANDARD
TZOFFSETFROM:+0200
TZOFFSETTO:+0100
TZNAME:CET
DTSTART:20221030T010000
END:STANDARD
BEGIN:DAYLIGHT
TZOFFSETFROM:+0100
TZOFFSETTO:+0200
TZNAME:CEST
DTSTART:20230326T010000
END:DAYLIGHT
BEGIN:STANDARD
TZOFFSETFROM:+0200
TZOFFSETTO:+0100
TZNAME:CET
DTSTART:20231029T010000
END:STANDARD
BEGIN:DAYLIGHT
TZOFFSETFROM:+0100
TZOFFSETTO:+0200
TZNAME:CEST
DTSTART:20240331T010000
END:DAYLIGHT
BEGIN:STANDARD
TZOFFSETFROM:+0200
TZOFFSETTO:+0100
TZNAME:CET
DTSTART:20241027T010000
END:STANDARD
END:VTIMEZONE
BEGIN:VEVENT
DTSTART;VALUE=DATE:20230203
DTEND;VALUE=DATE:20230204
DTSTAMP:20260424T180151
CREATED:20220919T081432Z
LAST-MODIFIED:20220919T081432Z
UID:10622-1675382400-1675468799@www.eschbach-gymnasium.de
SUMMARY:Präventionsprojekt "Achtung" (Klasse 9)
DESCRIPTION:
URL:https://www.eschbach-gymnasium.de/event/praeventionsprojekt-achtung-klasse-9/
END:VEVENT
BEGIN:VEVENT
DTSTART;VALUE=DATE:20230210
DTEND;VALUE=DATE:20230211
DTSTAMP:20260424T180151
CREATED:20220919T081551Z
LAST-MODIFIED:20220919T081551Z
UID:10624-1675987200-1676073599@www.eschbach-gymnasium.de
SUMMARY:Ausgabe der Halbjahresinformationen (Klasse 5 bis 10\, Jg. 1)
DESCRIPTION:Die Ausgabe der Halbjahresinformationen für die Klassen 5 bis 10 und der Zeugnisse J1.1 findet in der 3./4. Stunde statt.
URL:https://www.eschbach-gymnasium.de/event/ausgabe-der-halbjahresinformationen-klasse-5-bis-10-jg-1/
END:VEVENT
BEGIN:VEVENT
DTSTART;TZID=Europe/Berlin:20230211T100000
DTEND;TZID=Europe/Berlin:20230211T150000
DTSTAMP:20260424T180151
CREATED:20220919T081731Z
LAST-MODIFIED:20220919T081731Z
UID:10626-1676109600-1676127600@www.eschbach-gymnasium.de
SUMMARY:Tag der offenen Tür
DESCRIPTION:Wir freuen uns\, Sie zu unserem diesjährigen Tag der offenen Tür ab 10 Uhr begrüßen zu dürfen.
URL:https://www.eschbach-gymnasium.de/event/tag-der-offenen-tuer/
END:VEVENT
BEGIN:VEVENT
DTSTART;VALUE=DATE:20230213
DTEND;VALUE=DATE:20230214
DTSTAMP:20260424T180151
CREATED:20220919T081854Z
LAST-MODIFIED:20220919T081854Z
UID:10628-1676246400-1676332799@www.eschbach-gymnasium.de
SUMMARY:Neuer Stundenplan
DESCRIPTION:Bitte beachten: Ab heute gilt ein neuer Stundenplan.
URL:https://www.eschbach-gymnasium.de/event/neuer-stundenplan-4/
END:VEVENT
BEGIN:VEVENT
DTSTART;VALUE=DATE:20230218
DTEND;VALUE=DATE:20230227
DTSTAMP:20260424T180151
CREATED:20220919T082005Z
LAST-MODIFIED:20220919T082005Z
UID:10630-1676678400-1677455999@www.eschbach-gymnasium.de
SUMMARY:Faschingsferien
DESCRIPTION:
URL:https://www.eschbach-gymnasium.de/event/faschingsferien/
END:VEVENT
END:VCALENDAR