BEGIN:VCALENDAR
VERSION:2.0
PRODID:-//Eschbach-Gymnasium - ECPv6.15.15//NONSGML v1.0//EN
CALSCALE:GREGORIAN
METHOD:PUBLISH
X-ORIGINAL-URL:https://www.eschbach-gymnasium.de
X-WR-CALDESC:Veranstaltungen für Eschbach-Gymnasium
REFRESH-INTERVAL;VALUE=DURATION:PT1H
X-Robots-Tag:noindex
X-PUBLISHED-TTL:PT1H
BEGIN:VTIMEZONE
TZID:Europe/Berlin
BEGIN:DAYLIGHT
TZOFFSETFROM:+0100
TZOFFSETTO:+0200
TZNAME:CEST
DTSTART:20210328T010000
END:DAYLIGHT
BEGIN:STANDARD
TZOFFSETFROM:+0200
TZOFFSETTO:+0100
TZNAME:CET
DTSTART:20211031T010000
END:STANDARD
BEGIN:DAYLIGHT
TZOFFSETFROM:+0100
TZOFFSETTO:+0200
TZNAME:CEST
DTSTART:20220327T010000
END:DAYLIGHT
BEGIN:STANDARD
TZOFFSETFROM:+0200
TZOFFSETTO:+0100
TZNAME:CET
DTSTART:20221030T010000
END:STANDARD
BEGIN:DAYLIGHT
TZOFFSETFROM:+0100
TZOFFSETTO:+0200
TZNAME:CEST
DTSTART:20230326T010000
END:DAYLIGHT
BEGIN:STANDARD
TZOFFSETFROM:+0200
TZOFFSETTO:+0100
TZNAME:CET
DTSTART:20231029T010000
END:STANDARD
BEGIN:DAYLIGHT
TZOFFSETFROM:+0100
TZOFFSETTO:+0200
TZNAME:CEST
DTSTART:20240331T010000
END:DAYLIGHT
BEGIN:STANDARD
TZOFFSETFROM:+0200
TZOFFSETTO:+0100
TZNAME:CET
DTSTART:20241027T010000
END:STANDARD
END:VTIMEZONE
BEGIN:VEVENT
DTSTART;VALUE=DATE:20221217
DTEND;VALUE=DATE:20230109
DTSTAMP:20260424T192656
CREATED:20220916T101011Z
LAST-MODIFIED:20220916T101011Z
UID:10599-1671235200-1673222399@www.eschbach-gymnasium.de
SUMMARY:Weihnachtsferien
DESCRIPTION:
URL:https://www.eschbach-gymnasium.de/event/weihnachtsferien/
END:VEVENT
BEGIN:VEVENT
DTSTART;VALUE=DATE:20230113
DTEND;VALUE=DATE:20230114
DTSTAMP:20260424T192656
CREATED:20220919T075824Z
LAST-MODIFIED:20220919T075824Z
UID:10611-1673568000-1673654399@www.eschbach-gymnasium.de
SUMMARY:Jugend debattiert Workshop
DESCRIPTION:
URL:https://www.eschbach-gymnasium.de/event/jugend-debattiert-workshop/
END:VEVENT
BEGIN:VEVENT
DTSTART;VALUE=DATE:20230123
DTEND;VALUE=DATE:20230124
DTSTAMP:20260424T192656
CREATED:20220919T075946Z
LAST-MODIFIED:20220919T075946Z
UID:10613-1674432000-1674518399@www.eschbach-gymnasium.de
SUMMARY:Jugend debattiert Schulwettbewerb
DESCRIPTION:
URL:https://www.eschbach-gymnasium.de/event/jugend-debattiert-schulwettbewerb/
END:VEVENT
BEGIN:VEVENT
DTSTART;VALUE=DATE:20230123
DTEND;VALUE=DATE:20230128
DTSTAMP:20260424T192656
CREATED:20220919T080040Z
LAST-MODIFIED:20220919T080202Z
UID:10615-1674432000-1674863999@www.eschbach-gymnasium.de
SUMMARY:Berlinfahrt der Gemeinschaftskundekurse (Jg. 2)
DESCRIPTION:
URL:https://www.eschbach-gymnasium.de/event/berlinfahrt-der-gemeinschaftskundekurse-j2/
END:VEVENT
BEGIN:VEVENT
DTSTART;VALUE=DATE:20230127
DTEND;VALUE=DATE:20230128
DTSTAMP:20260424T192656
CREATED:20220919T080145Z
LAST-MODIFIED:20220919T080145Z
UID:10617-1674777600-1674863999@www.eschbach-gymnasium.de
SUMMARY:Zeugnisausgabe (Jg. 2)
DESCRIPTION:
URL:https://www.eschbach-gymnasium.de/event/zeugnisausgabe-jg-2/
END:VEVENT
BEGIN:VEVENT
DTSTART;VALUE=DATE:20230131
DTEND;VALUE=DATE:20230201
DTSTAMP:20260424T192656
CREATED:20220919T081401Z
LAST-MODIFIED:20220919T081401Z
UID:10620-1675123200-1675209599@www.eschbach-gymnasium.de
SUMMARY:Ende des ersten Schulhalbjahres
DESCRIPTION:
URL:https://www.eschbach-gymnasium.de/event/ende-des-ersten-schulhalbjahres/
END:VEVENT
END:VCALENDAR